BEGIN:VCALENDAR
VERSION:2.0
PRODID:gruene-rlp.de
METHOD:PUBLISH
BEGIN:VTIMEZONE
TZID:Europe/Berlin
X-LIC-LOCATION:Europe/Berlin
BEGIN:DAYLIGHT
TZOFFSETFROM:+0100
TZOFFSETTO:+0200
TZNAME:CEST
DTSTART:19700329T020000
RRULE:FREQ=YEARLY;INTERVAL=1;BYDAY=-1SU;BYMONTH=3
END:DAYLIGHT
BEGIN:STANDARD
TZOFFSETFROM:+0200
TZOFFSETTO:+0100
TZNAME:CET
DTSTART:19701025T030000
RRULE:FREQ=YEARLY;INTERVAL=1;BYDAY=-1SU;BYMONTH=10
END:STANDARD
END:VTIMEZONE
BEGIN:VEVENT
UID:ae19c88033ac0d0b10a26966ebcd18fc@gruene-rlp.de
URL;VALUE=URI:https://gruene-rlp.de/termine/sitzung-des-ak-behindertenpol
 itik/
LOCATION:Sitzungssaal 101 im Abgeordnetenhaus des Landtags Rheinland-Pfal
 z, Kaiser-Friedrich-Straße 3, 55116 Mainz
SUMMARY:Sitzung des AK Behindertenpolitik
DESCRIPTION;ALTREP="data:text/html,%0A%3Cp%3EVorl%C3%A4ufige%20Tagesordnu
 ng%3A%20%3C%2Fp%3E%0A%0A%0A%0A%3Cp%3E1%20Begr%C3%BC%C3%9Fung%20und%20Form
 alia%3Cbr%3E2%20Berichte%3Cbr%3E3%20Verschiedenes%20und%20Termine%202.%20
 Halbjahr%3C%2Fp%3E%0A":Vorläufige Tagesordnung:\n\n1 Begrüßung und For
 malia2 Berichte3 Verschiedenes und Termine 2. Halbjahr
CLASS:PUBLIC
DTSTART;TZID=Europe/Berlin:20220611T130000
DTEND;TZID=Europe/Berlin:20220611T140000
DTSTAMP:20260425T104147
END:VEVENT
END:VCALENDAR