BEGIN:VCALENDAR
VERSION:2.0
PRODID:gruene-rlp.de
METHOD:PUBLISH
BEGIN:VTIMEZONE
TZID:Europe/Berlin
X-LIC-LOCATION:Europe/Berlin
BEGIN:DAYLIGHT
TZOFFSETFROM:+0100
TZOFFSETTO:+0200
TZNAME:CEST
DTSTART:19700329T020000
RRULE:FREQ=YEARLY;INTERVAL=1;BYDAY=-1SU;BYMONTH=3
END:DAYLIGHT
BEGIN:STANDARD
TZOFFSETFROM:+0200
TZOFFSETTO:+0100
TZNAME:CET
DTSTART:19701025T030000
RRULE:FREQ=YEARLY;INTERVAL=1;BYDAY=-1SU;BYMONTH=10
END:STANDARD
END:VTIMEZONE
BEGIN:VEVENT
UID:9045f7e691f1268c49a7ab3ac414a20b@gruene-rlp.de
URL;VALUE=URI:https://gruene-rlp.de/termine/sitzung-der-lag-verkehr-4/
LOCATION:Trier
SUMMARY:Sitzung der LAG Verkehr
DESCRIPTION;ALTREP="data:text/html,%0A%3Cp%3ESave%20the%20date%21%3C%2Fp%
 3E%0A%0A%0A%0A%3Cp%3EDie%20LAG%20Verkehr%20plant%20eine%20digitale%20Sitz
 ung.%20Auf%20dem%20Programm%20stehen%20unter%20anderem%20Wahlen%20der%20S
 precher%2Ainnen%20und%20BAG%20Delegierten.%20Weitere%20Infos%20folgen.%3C
 %2Fp%3E%0A%0A%0A%0A%3Cp%3EKontakt%20f%C3%BCr%20R%C3%BCckfragen%3A%20%3Ca%
 20href%3D%22mailto%3Alag-verkehr%40gruene-rlp.de%22%3Elag-verkehr%40gruen
 e-rlp.de%3C%2Fa%3E%3C%2Fp%3E%0A%0A%0A%0A%3Cp%3E%3C%2Fp%3E%0A":Save the da
 te!\n\nDie LAG Verkehr plant eine digitale Sitzung. Auf dem Programm steh
 en unter anderem Wahlen der Sprecher*innen und BAG Delegierten. Weitere I
 nfos folgen.\n\nKontakt für Rückfragen: lag-verkehr@gruene-rlp.de
CLASS:PUBLIC
DTSTART;TZID=Europe/Berlin:20260516T113000
DTEND;TZID=Europe/Berlin:20260516T113000
DTSTAMP:20260421T114258
END:VEVENT
END:VCALENDAR