BEGIN:VCALENDAR
VERSION:2.0
PRODID:gruene-rlp.de
METHOD:PUBLISH
BEGIN:VTIMEZONE
TZID:Europe/Berlin
X-LIC-LOCATION:Europe/Berlin
BEGIN:DAYLIGHT
TZOFFSETFROM:+0100
TZOFFSETTO:+0200
TZNAME:CEST
DTSTART:19700329T020000
RRULE:FREQ=YEARLY;INTERVAL=1;BYDAY=-1SU;BYMONTH=3
END:DAYLIGHT
BEGIN:STANDARD
TZOFFSETFROM:+0200
TZOFFSETTO:+0100
TZNAME:CET
DTSTART:19701025T030000
RRULE:FREQ=YEARLY;INTERVAL=1;BYDAY=-1SU;BYMONTH=10
END:STANDARD
END:VTIMEZONE
BEGIN:VEVENT
UID:d8257e8a2c3037d00bcac776f737bec9@gruene-rlp.de
URL;VALUE=URI:https://gruene-rlp.de/termine/sitzung-der-lag-queergruen-3/
LOCATION:Landesgeschäftsstelle, Frauenlobstr. 49-51, 55118 Mainz
SUMMARY:Sitzung der LAG QueerGrün
DESCRIPTION;ALTREP="data:text/html,%0A%3Cp%3E%3Cbr%3ESave%20the%20date%21
 %3C%2Fp%3E%0A%0A%0A%0A%3Cp%3EDie%20LAG%20QueerGr%C3%BCn%20plant%20eine%20
 Sitzung.%20Auf%20der%20Tagesordnung%20werden%20unter%20anderem%20Wahlen%2
 0der%20Sprecher%2Ainnen%20sowie%20der%20BAG%20Delegierte%20stehen.%3C%2Fp
 %3E%0A%0A%0A%0A%3Cp%3EWeitere%20Infos%20folgen%20in%20K%C3%BCrze.%20Konta
 kt%20zur%20LAG%3A%20%3Ca%20href%3D%22mailto%3Alag-queergruen%40gruene-rlp
 .de%22%3Elag-queergruen%40gruene-rlp.de%3C%2Fa%3E%3C%2Fp%3E%0A%0A%0A%0A%3
 Cp%3E%3C%2Fp%3E%0A":Save the date!\n\nDie LAG QueerGrün plant eine Sitzu
 ng. Auf der Tagesordnung werden unter anderem Wahlen der Sprecher*innen s
 owie der BAG Delegierte stehen.\n\nWeitere Infos folgen in Kürze. Kontak
 t zur LAG: lag-queergruen@gruene-rlp.de
CLASS:PUBLIC
DTSTART;TZID=Europe/Berlin:20260523T133000
DTEND;TZID=Europe/Berlin:20260523T143000
DTSTAMP:20260424T160028
END:VEVENT
END:VCALENDAR