BEGIN:VCALENDAR
VERSION:2.0
PRODID:gruene-rlp.de
METHOD:PUBLISH
BEGIN:VTIMEZONE
TZID:Europe/Berlin
X-LIC-LOCATION:Europe/Berlin
BEGIN:DAYLIGHT
TZOFFSETFROM:+0100
TZOFFSETTO:+0200
TZNAME:CEST
DTSTART:19700329T020000
RRULE:FREQ=YEARLY;INTERVAL=1;BYDAY=-1SU;BYMONTH=3
END:DAYLIGHT
BEGIN:STANDARD
TZOFFSETFROM:+0200
TZOFFSETTO:+0100
TZNAME:CET
DTSTART:19701025T030000
RRULE:FREQ=YEARLY;INTERVAL=1;BYDAY=-1SU;BYMONTH=10
END:STANDARD
END:VTIMEZONE
BEGIN:VEVENT
UID:c49ec0eaa6671cedfe45f51b52b732ad@gruene-rlp.de
URL;VALUE=URI:https://gruene-rlp.de/termine/podium-selbstbestimmt-digital
 -digitalen-gesellschaft/
LOCATION:
SUMMARY:Podium selbstbestimmt.digital/Digitalen Gesellschaft
DESCRIPTION;ALTREP="data:text/html,%0A%3Cp%3ETabea%20R%C3%B6%C3%9Fner%20s
 pricht%20auf%20dem%20Podium%20von%20selbstbestimmt.digital.%3C%2Fp%3E%0A"
 :Tabea Rößner spricht auf dem Podium von selbstbestimmt.digital.
CLASS:PUBLIC
DTSTART;TZID=Europe/Berlin:20210907T201500
DTEND;TZID=Europe/Berlin:20210907T211500
DTSTAMP:20260420T101822
END:VEVENT
END:VCALENDAR