BEGIN:VCALENDAR
VERSION:2.0
PRODID:gruene-rlp.de
METHOD:PUBLISH
BEGIN:VTIMEZONE
TZID:Europe/Berlin
X-LIC-LOCATION:Europe/Berlin
BEGIN:DAYLIGHT
TZOFFSETFROM:+0100
TZOFFSETTO:+0200
TZNAME:CEST
DTSTART:19700329T020000
RRULE:FREQ=YEARLY;INTERVAL=1;BYDAY=-1SU;BYMONTH=3
END:DAYLIGHT
BEGIN:STANDARD
TZOFFSETFROM:+0200
TZOFFSETTO:+0100
TZNAME:CET
DTSTART:19701025T030000
RRULE:FREQ=YEARLY;INTERVAL=1;BYDAY=-1SU;BYMONTH=10
END:STANDARD
END:VTIMEZONE
BEGIN:VEVENT
UID:646d4ffa98fe04b6d0ce61d0a2253cb9@gruene-rlp.de
URL;VALUE=URI:https://gruene-rlp.de/termine/online-sitzung-des-ak-tiersch
 utz/
LOCATION:
SUMMARY:Online-Sitzung des AK Tierschutz
DESCRIPTION;ALTREP="data:text/html,%0A%3Cp%3EThema%3A%26nbsp%3B%20Ber%C3%
 BCcksichtigung%20von%20Tierschutzinteressen%20bei%20der%20anstehenden%20N
 ovellierung%20des%20Jagdgesetz%20RLP%3C%2Fp%3E%0A":Thema:  Berücksichti
 gung von Tierschutzinteressen bei der anstehenden Novellierung des Jagdge
 setz RLP
CLASS:PUBLIC
DTSTART;TZID=Europe/Berlin:20220831T200000
DTEND;TZID=Europe/Berlin:20220831T210000
DTSTAMP:20260423T162259
END:VEVENT
END:VCALENDAR