BEGIN:VCALENDAR
VERSION:2.0
PRODID:gruene-rlp.de
METHOD:PUBLISH
BEGIN:VTIMEZONE
TZID:Europe/Berlin
X-LIC-LOCATION:Europe/Berlin
BEGIN:DAYLIGHT
TZOFFSETFROM:+0100
TZOFFSETTO:+0200
TZNAME:CEST
DTSTART:19700329T020000
RRULE:FREQ=YEARLY;INTERVAL=1;BYDAY=-1SU;BYMONTH=3
END:DAYLIGHT
BEGIN:STANDARD
TZOFFSETFROM:+0200
TZOFFSETTO:+0100
TZNAME:CET
DTSTART:19701025T030000
RRULE:FREQ=YEARLY;INTERVAL=1;BYDAY=-1SU;BYMONTH=10
END:STANDARD
END:VTIMEZONE
BEGIN:VEVENT
UID:7035098276b851eee423ed520385d9a9@gruene-rlp.de
URL;VALUE=URI:https://gruene-rlp.de/termine/landesdelegiertenversammlung-
 ldv-in-idar-oberstein/
LOCATION:Messe Idar-Oberstein, John-F.-Kennedy-Str. 9, 55743 Idar-Oberste
 in
SUMMARY:Landesdelegiertenversammlung (LDV) in Idar-Oberstein
DESCRIPTION;ALTREP="data:text/html,%0A%3Cp%3EAlle%20wichtigen%20Informati
 onen%20zur%20LDV%20findest%20du%20%3Ca%20href%3D%22https%3A%2F%2Fgruene-r
 lp.de%2F2026%2F02%2F27%2Flandesdelegiertenversammlung-ldv-am-09-mai-2026-
 in-idar-oberstein%2F%22%20data-type%3D%22link%22%20data-id%3D%22https%3A%
 2F%2Fgruene-rlp.de%2F2026%2F02%2F27%2Flandesdelegiertenversammlung-ldv-am
 -09-mai-2026-in-idar-oberstein%2F%22%3Ehier%3C%2Fa%3E.%3C%2Fp%3E%0A%0A%0A
 %0A%3Ch1%20class%3D%22wp-block-heading%22%3EAls%20vorl%C3%A4ufige%20Tages
 ordnung%20schlagen%20wir%20vor%3A%3C%2Fh1%3E%0A%0A%0A%0A%3Cp%3E%3Cstrong%
 3ESamstag%2C%209.%20Mai%202026%20Beginn%3A%2010%3A00%20Uhr%3C%2Fstrong%3E
 %3C%2Fp%3E%0A%0A%0A%0A%3Cp%3ETOP%201%20Er%C3%B6ffnung%2C%20Formalia%3C%2F
 p%3E%0A%0A%0A%0A%3Cp%3ETOP%202%20Aktuelle%20Politische%20Lage%3C%2Fp%3E%0
 A%0A%0A%0A%3Cp%3ETOP%203%20Rechenschaftsbericht%3C%2Fp%3E%0A%0A%0A%0A%3Cp
 %3ETOP%204%20Finanzen%3C%2Fp%3E%0A%0A%0A%0A%3Cp%3ETOP%205%20Wahlen%20Land
 esvorstand%2A%3C%2Fp%3E%0A%0A%0A%0A%3Cp%3ETOP%206%20Wahlen%20Erweiterter%
 20Landesvorstand%3C%2Fp%3E%0A%0A%0A%0A%3Cp%3ETOP%207%20Weitere%20Wahlen%3
 C%2Fp%3E%0A%0A%0A%0A%3Cp%3E1%29%20Wahl%20der%20Delegierten%20f%C3%BCr%20d
 en%20Bundesfinanzrat%3C%2Fp%3E%0A%0A%0A%0A%3Cp%3E2%29%20Wahl%20der%20Dele
 gierten%20f%C3%BCr%20den%20L%C3%A4nderrat%3C%2Fp%3E%0A%0A%0A%0A%3Cp%3ETOP
 %208%20Antr%C3%A4ge%3C%2Fp%3E%0A%0A%0A%0A%3Cp%3ETOP%209%20Verschiedenes%3
 C%2Fp%3E%0A%0A%0A%0A%3Cp%3E%3Cstrong%3Egeplantes%20Ende%3A%2021%3A00%20Uh
 r%3C%2Fstrong%3E%3C%2Fp%3E%0A%0A%0A%0A%3Cp%3E%2A%20Der%20neu%20gew%C3%A4h
 lte%20Landesvorstand%20nimmt%20seine%20T%C3%A4tigkeit%20mit%20Wirkung%20z
 um%20%3Cstrong%3E1.%20Juni%202026%3C%2Fstrong%3E%20auf.%20Der%20amtierend
 e%20Landesvorstand%20f%C3%BChrt%20die%20laufenden%20Gesch%C3%A4fte%20bis%
 20zu%20diesem%20Zeitpunkt%20ordnungsgem%C3%A4%C3%9F%20fort%20und%20bringt
 %20begonnene%20Vorg%C3%A4nge%20sowie%20anh%C3%A4ngige%20Angelegenheiten%2
 0zu%20einem%20geordneten%20Abschluss.%20Die%20Zeit%20wird%20intensiv%20f%
 C3%BCr%20die%20%C3%9Cbergabe%20der%20Gesch%C3%A4fte%20an%20den%20neuen%20
 Landesvorstand%20gem%C3%A4%C3%9F%20GO%20des%20LaVo%20genutzt.%3C%2Fp%3E%0
 A":Alle wichtigen Informationen zur LDV findest du hier.\n\nAls vorläufi
 ge Tagesordnung schlagen wir vor:\n\nSamstag\, 9. Mai 2026 Beginn: 10:00 
 Uhr\n\nTOP 1 Eröffnung\, Formalia\n\nTOP 2 Aktuelle Politische Lage\n\nT
 OP 3 Rechenschaftsbericht\n\nTOP 4 Finanzen\n\nTOP 5 Wahlen Landesvorstan
 d*\n\nTOP 6 Wahlen Erweiterter Landesvorstand\n\nTOP 7 Weitere Wahlen\n\n
 1) Wahl der Delegierten für den Bundesfinanzrat\n\n2) Wahl der Delegiert
 en für den Länderrat\n\nTOP 8 Anträge\n\nTOP 9 Verschiedenes\n\ngeplan
 tes Ende: 21:00 Uhr\n\n* Der neu gewählte Landesvorstand nimmt seine Tä
 tigkeit mit Wirkung zum 1. Juni 2026 auf. Der amtierende Landesvorstand f
 ührt die laufenden Geschäfte bis zu diesem Zeitpunkt ordnungsgemäß fo
 rt und bringt begonnene Vorgänge sowie anhängige Angelegenheiten zu ein
 em geordneten Abschluss. Die Zeit wird intensiv für die Übergabe der Ge
 schäfte an den neuen Landesvorstand gemäß GO des LaVo genutzt.
CLASS:PUBLIC
DTSTART;TZID=Europe/Berlin:20260509
DTEND;TZID=Europe/Berlin:20260510
DTSTAMP:20260421T114427
END:VEVENT
END:VCALENDAR