BEGIN:VCALENDAR
VERSION:2.0
PRODID:gruene-rlp.de
METHOD:PUBLISH
BEGIN:VTIMEZONE
TZID:Europe/Berlin
X-LIC-LOCATION:Europe/Berlin
BEGIN:DAYLIGHT
TZOFFSETFROM:+0100
TZOFFSETTO:+0200
TZNAME:CEST
DTSTART:19700329T020000
RRULE:FREQ=YEARLY;INTERVAL=1;BYDAY=-1SU;BYMONTH=3
END:DAYLIGHT
BEGIN:STANDARD
TZOFFSETFROM:+0200
TZOFFSETTO:+0100
TZNAME:CET
DTSTART:19701025T030000
RRULE:FREQ=YEARLY;INTERVAL=1;BYDAY=-1SU;BYMONTH=10
END:STANDARD
END:VTIMEZONE
BEGIN:VEVENT
UID:e918378aec561d4947ecc50454ddc48b@gruene-rlp.de
URL;VALUE=URI:https://gruene-rlp.de/termine/lag-soziales-5/
LOCATION:
SUMMARY:LAG Soziales & Gesundheit
DESCRIPTION;ALTREP="data:text/html,%0A%3Cp%3EDie%20LAG%20Soziales%20%26am
 p%3B%20Gesundheit%20l%C3%A4dt%20zu%20einer%20digitalen%20Sitzung%20ein.%3
 Cbr%3E%3Cbr%3Evorl%C3%A4ufige%20Tagesordnung%3A%3Cbr%3E1%29%20Austausch%2
 0zum%20Wahlprogramm%20f%C3%BCr%20die%20LTW%3Cbr%3E2%29%20Sonstiges%3C%2Fp
 %3E%0A%0A%0A%0A%3Cp%3EF%C3%BCr%20Fragen%20und%20weitere%20Infos%3A%20%3Ca
 %20href%3D%22mailto%3Alag-soziales%40gruene-rlp.de%22%3Elag-soziales%40gr
 uene-rlp.de%3C%2Fa%3E%3C%2Fp%3E%0A":Die LAG Soziales & Gesundheit lädt z
 u einer digitalen Sitzung ein.vorläufige Tagesordnung:1) Austausch zum W
 ahlprogramm für die LTW2) Sonstiges\n\nFür Fragen und weitere Infos: la
 g-soziales@gruene-rlp.de
CLASS:PUBLIC
DTSTART;TZID=Europe/Berlin:20251010T180000
DTEND;TZID=Europe/Berlin:20251010T190000
DTSTAMP:20260421T205510
END:VEVENT
END:VCALENDAR