BEGIN:VCALENDAR
VERSION:2.0
PRODID:gruene-rlp.de
METHOD:PUBLISH
BEGIN:VTIMEZONE
TZID:Europe/Berlin
X-LIC-LOCATION:Europe/Berlin
BEGIN:DAYLIGHT
TZOFFSETFROM:+0100
TZOFFSETTO:+0200
TZNAME:CEST
DTSTART:19700329T020000
RRULE:FREQ=YEARLY;INTERVAL=1;BYDAY=-1SU;BYMONTH=3
END:DAYLIGHT
BEGIN:STANDARD
TZOFFSETFROM:+0200
TZOFFSETTO:+0100
TZNAME:CET
DTSTART:19701025T030000
RRULE:FREQ=YEARLY;INTERVAL=1;BYDAY=-1SU;BYMONTH=10
END:STANDARD
END:VTIMEZONE
BEGIN:VEVENT
UID:bdb4e953f37c7c83b4d54d533326990a@gruene-rlp.de
URL;VALUE=URI:https://gruene-rlp.de/termine/lag-gruene-alte-2/
LOCATION:
SUMMARY:LAG Grüne Alte
DESCRIPTION;ALTREP="data:text/html,%0A%3Cp%3EDie%20LAG%20Gr%C3%BCne%20Alt
 e%20l%C3%A4dt%20zu%20einer%20digitalen%20Sitzung%20ein.%3Cbr%3E%3Cbr%3Evo
 rl%C3%A4ufige%20Tagesordnung%3A%3Cbr%3E1.%C2%A0%C2%A0%C2%A0%20Begr%C3%BC%
 C3%9Fung%20und%20Formalia%20%28letztes%20Protokoll%2C%20%C3%84nderung%20d
 er%20TO%2C%20%E2%80%A6%29%3Cbr%3E2.%C2%A0%C2%A0%C2%A0%20Vorstellungsrunde
 %3Cbr%3E3.%C2%A0%C2%A0%C2%A0%20Neuwahl%20und%20Nachwahl%20der%20noch%20of
 fenen%20Funktion%20unserer%20Sprecher%2Ainnen%3Cbr%3E4.%C2%A0%C2%A0%C2%A0
 %20Wie%20ging%20es%20mit%20den%20Wahlprogrammen%20voran%3F%3Cbr%3E%C2%A0%
 C2%A0%C2%A0%C2%A0%C2%A0%C2%A0%C2%A0%20-%20Wo%20gibt%20es%20Altenpolitik%2
 0im%20Wahlprogramm%3F%3Cbr%3E%C2%A0%C2%A0%C2%A0%C2%A0%C2%A0%C2%A0%C2%A0%2
 0-%20Welche%20neuen%20Ideen%20gibt%20es%3F%3Cbr%3E5.%C2%A0%C2%A0%C2%A0%20
 Diskussionspunkt%20%E2%80%9EMitgliederbetreuung%E2%80%9C%2C%20gilt%20dies
 %20auch%20f%C3%BCr%20%C3%84ltere%3F%3Cbr%3E6.%C2%A0%C2%A0%C2%A0%20Inhaltl
 iche%20Themen%20f%C3%BCr%20diese%20Jahr%3F%3Cbr%3E7.%C2%A0%C2%A0%C2%A0%20
 Wie%20geht%20es%20weiter%20mit%20dem%20Bundesverband%20%E2%80%9EGr%C3%BCn
 e%20Alte%E2%80%9C%20und%20eventuell%20einem%20Landesverband%3F%3Cbr%3E8.%
 C2%A0%C2%A0%C2%A0%20Termin-%20und%20Themenplanung%20f%C3%BCr%20das%20Jahr
 %3Cbr%3E9.%C2%A0%C2%A0%C2%A0%20Auftr%C3%A4ge%20an%20kleinere%20Arbeitsgru
 ppen%3Cbr%3E10.%C2%A0%20Sonstiges%3Cbr%3E%3Cbr%3EF%C3%BCr%20Fragen%20und%
 20weitere%20Infos%3A%20%3Ca%20href%3D%22mailto%3Alag-gruenealte%40gruene-
 rlp.de%22%3Elag-gruenealte%40gruene-rlp.de%3C%2Fa%3E%3C%2Fp%3E%0A":Die LA
 G Grüne Alte lädt zu einer digitalen Sitzung ein.vorläufige Tagesordnu
 ng:1.    Begrüßung und Formalia (letztes Protokoll\, Änderung der T
 O\, …)2.    Vorstellungsrunde3.    Neuwahl und Nachwahl der noch 
 offenen Funktion unserer Sprecher*innen4.    Wie ging es mit den Wahlp
 rogrammen voran?        - Wo gibt es Altenpolitik im Wahlprogramm?
         - Welche neuen Ideen gibt es?5.    Diskussionspunkt „
 Mitgliederbetreuung“\, gilt dies auch für Ältere?6.    Inhaltliche
  Themen für diese Jahr?7.    Wie geht es weiter mit dem Bundesverband
  „Grüne Alte“ und eventuell einem Landesverband?8.    Termin- und
  Themenplanung für das Jahr9.    Aufträge an kleinere Arbeitsgruppen
 10.  SonstigesFür Fragen und weitere Infos: lag-gruenealte@gruene-rlp.d
 e
CLASS:PUBLIC
DTSTART;TZID=Europe/Berlin:20240914T110000
DTEND;TZID=Europe/Berlin:20240914T130000
DTSTAMP:20260420T103107
END:VEVENT
END:VCALENDAR