BEGIN:VCALENDAR
VERSION:2.0
PRODID:gruene-rlp.de
METHOD:PUBLISH
BEGIN:VTIMEZONE
TZID:Europe/Berlin
X-LIC-LOCATION:Europe/Berlin
BEGIN:DAYLIGHT
TZOFFSETFROM:+0100
TZOFFSETTO:+0200
TZNAME:CEST
DTSTART:19700329T020000
RRULE:FREQ=YEARLY;INTERVAL=1;BYDAY=-1SU;BYMONTH=3
END:DAYLIGHT
BEGIN:STANDARD
TZOFFSETFROM:+0200
TZOFFSETTO:+0100
TZNAME:CET
DTSTART:19701025T030000
RRULE:FREQ=YEARLY;INTERVAL=1;BYDAY=-1SU;BYMONTH=10
END:STANDARD
END:VTIMEZONE
BEGIN:VEVENT
UID:2c14898e1f2d5773297c5996b327af0a@gruene-rlp.de
URL;VALUE=URI:https://gruene-rlp.de/termine/lag-frieden-internationales/
LOCATION:
SUMMARY:LAG Frieden & Internationales
DESCRIPTION;ALTREP="data:text/html,%0A%3Cp%3EDie%20LAG%20Frieden%20l%C3%A
 4dt%20zu%20einer%20digitalen%20Sitzung%20ein.%3Cbr%3E%3Cbr%3EVorl%C3%A4uf
 ige%20Tagesordnung%3A%3Cbr%3E%3Cbr%3E1%29%20Formalia%2C%20LAG-Protokoll%2
 0vom%2004.07.%3Cbr%3E2%29%20Vorstellung%20der%20Israelischen%20Friedensbe
 wegung%20am%20Beispiel%20von%20Giv%CA%BFat%20Chaviva%20%28Ruth%20Ratter%2
 0und%20Dr.%20Lea%20Heidbreder%29%3Cbr%3E3%29%20Situation%20und%20Friedens
 optionen%20im%20Israel-Pal%C3%A4stina-Konflikt-%20Gaza%20%28humanit%C3%A4
 te%20Situation%29%2C%20-Siedlungspolitik%2C-%202-Staatenl%C3%B6sung%2C-%2
 0Anerkennung%20Pal%C3%A4stina%2C-%20Haltung%20der%20Arabischen%20Liga%2C%
 20...%20%28Referent%2Ainnen%20in%20Kl%C3%A4rung%29%3Cbr%3E4%29%20Diskussi
 on%20Wahlprogramm.%20ggf.%20Erg%C3%A4nzungen%2F%C3%84nderungen%20im%20Pro
 grammteil%20Frieden%20und%20Internationales%3Cbr%3E5%29%20Sonstiges%3C%2F
 p%3E%0A%0A%0A%0A%3Cp%3EF%C3%BCr%20Fragen%20und%20weitere%20Infos%3A%20%3C
 a%20href%3D%22https%3A%2F%2Fgruene-rlp.de%2Ftermine%2Flag-soziales-5%2F%2
 3%22%3Elag-frieden%40gruene-rlp.de%3C%2Fa%3E%3C%2Fp%3E%0A%0A%0A%0A%3Cp%3E
 %3C%2Fp%3E%0A":Die LAG Frieden lädt zu einer digitalen Sitzung ein.Vorl
 äufige Tagesordnung:1) Formalia\, LAG-Protokoll vom 04.07.2) Vorstellung
  der Israelischen Friedensbewegung am Beispiel von Givʿat Chaviva (Ruth 
 Ratter und Dr. Lea Heidbreder)3) Situation und Friedensoptionen im Israel
 -Palästina-Konflikt- Gaza (humanitäte Situation)\, -Siedlungspolitik\,-
  2-Staatenlösung\,- Anerkennung Palästina\,- Haltung der Arabischen Lig
 a\, ... (Referent*innen in Klärung)4) Diskussion Wahlprogramm. ggf. Erg
 änzungen/Änderungen im Programmteil Frieden und Internationales5) Sonst
 iges\n\nFür Fragen und weitere Infos: lag-frieden@gruene-rlp.de
CLASS:PUBLIC
DTSTART;TZID=Europe/Berlin:20251011T140000
DTEND;TZID=Europe/Berlin:20251011T150000
DTSTAMP:20260421T192024
END:VEVENT
END:VCALENDAR