BEGIN:VCALENDAR
VERSION:2.0
PRODID:gruene-rlp.de
METHOD:PUBLISH
BEGIN:VTIMEZONE
TZID:Europe/Berlin
X-LIC-LOCATION:Europe/Berlin
BEGIN:DAYLIGHT
TZOFFSETFROM:+0100
TZOFFSETTO:+0200
TZNAME:CEST
DTSTART:19700329T020000
RRULE:FREQ=YEARLY;INTERVAL=1;BYDAY=-1SU;BYMONTH=3
END:DAYLIGHT
BEGIN:STANDARD
TZOFFSETFROM:+0200
TZOFFSETTO:+0100
TZNAME:CET
DTSTART:19701025T030000
RRULE:FREQ=YEARLY;INTERVAL=1;BYDAY=-1SU;BYMONTH=10
END:STANDARD
END:VTIMEZONE
BEGIN:VEVENT
UID:ad92149d7a31951d4ffec8d409c3e52f@gruene-rlp.de
URL;VALUE=URI:https://gruene-rlp.de/termine/konstituierende-sitzung-des-a
 k-sport/
LOCATION:Sitzungssaal 101 im Abgeordnetenhaus des Landtags Rheinland-Pfal
 z, Kaiser-Friedrich-Straße 3, 55116 Mainz
SUMMARY:Konstituierende Sitzung des AK Sport
DESCRIPTION;ALTREP="data:text/html,%0A%3Cp%3EVorl%C3%A4ufige%20Tagesordnu
 ng%3A%3Cbr%3E1.%20Formalia%20und%20Konstituierung%20des%20Arbeitskreises%
 3Cbr%3E2.%20Wahlen%3Cbr%3E2.1.%20Wahl%20eine%2Ar%20Koordinator%2Ain%3Cbr%
 3E2.2.%20Votum%20zwei%20Delegierte%2Fzwei%20Ersatzdelegierte%20f%C3%BCr%2
 0die%20BAG%20Sportpolitik%3Cbr%3E3.%20Nachhaltiger%20Sportst%C3%A4ttenbau
 %20im%20Ahrtal%20%28Input%20Birgit%20Stupp%29%3Cbr%3E4.%20Verschiedenes%2
 0%28weitere%20Zusammenarbeit%2C%20Termine%29%3C%2Fp%3E%0A%0A%0A%0A%3Cp%3E
 Die%20Sitzung%20findet%20hybrid%20statt%3A%20Eine%20Teilnahme%20ist%20sow
 ohl%20in%20Pr%C3%A4senz%2C%20als%20auch%20digital%20m%C3%B6glich.%20Konta
 ktadresse%20f%C3%BCr%20R%C3%BCckfragen%20ist%20vorl%C3%A4ufig%3A%20%3Ca%2
 0href%3D%22mailto%3Alag-soziales%40gruene-rlp.de%22%20data-type%3D%22mail
 to%22%20data-id%3D%22mailto%3Alag-soziales%40gruene-rlp.de%22%3Elag-sozia
 les%40gruene-rlp.de%3C%2Fa%3E%3C%2Fp%3E%0A":Vorläufige Tagesordnung:1. F
 ormalia und Konstituierung des Arbeitskreises2. Wahlen2.1. Wahl eine*r Ko
 ordinator*in2.2. Votum zwei Delegierte/zwei Ersatzdelegierte für die BAG
  Sportpolitik3. Nachhaltiger Sportstättenbau im Ahrtal (Input Birgit Stu
 pp)4. Verschiedenes (weitere Zusammenarbeit\, Termine)\n\nDie Sitzung fin
 det hybrid statt: Eine Teilnahme ist sowohl in Präsenz\, als auch digita
 l möglich. Kontaktadresse für Rückfragen ist vorläufig: lag-soziales@
 gruene-rlp.de
CLASS:PUBLIC
DTSTART;TZID=Europe/Berlin:20220611T100000
DTEND;TZID=Europe/Berlin:20220611T120000
DTSTAMP:20260422T080711
END:VEVENT
END:VCALENDAR