BEGIN:VCALENDAR
VERSION:2.0
PRODID:gruene-rlp.de
METHOD:PUBLISH
BEGIN:VTIMEZONE
TZID:Europe/Berlin
X-LIC-LOCATION:Europe/Berlin
BEGIN:DAYLIGHT
TZOFFSETFROM:+0100
TZOFFSETTO:+0200
TZNAME:CEST
DTSTART:19700329T020000
RRULE:FREQ=YEARLY;INTERVAL=1;BYDAY=-1SU;BYMONTH=3
END:DAYLIGHT
BEGIN:STANDARD
TZOFFSETFROM:+0200
TZOFFSETTO:+0100
TZNAME:CET
DTSTART:19701025T030000
RRULE:FREQ=YEARLY;INTERVAL=1;BYDAY=-1SU;BYMONTH=10
END:STANDARD
END:VTIMEZONE
BEGIN:VEVENT
UID:9904e87ea90d0b82e5ddab3278023ae3@gruene-rlp.de
URL;VALUE=URI:https://gruene-rlp.de/termine/jutta-paulus-besuch-im-kv-nue
 rnberger-land/
LOCATION:Nürnberger Land
SUMMARY:Jutta Paulus: Besuch im KV Nürnberger Land
DESCRIPTION;ALTREP="data:text/html,%0A%3Cp%3EBei%20Fragen%20steht%20Anke%
 20Welzenheimer%20aus%20der%20Landesgesch%C3%A4ftsstelle%20unter%20der%20E
 -Mail-Adresse%20%3Ca%3Eanke.welzenheimer%40gruene-rlp.de%3C%2Fa%3E%20zur%
 20Verf%C3%BCgung.%3C%2Fp%3E%0A%0A%0A%0A%3Cp%3E%3C%2Fp%3E%0A":Bei Fragen s
 teht Anke Welzenheimer aus der Landesgeschäftsstelle unter der E-Mail-Ad
 resse anke.welzenheimer@gruene-rlp.de zur Verfügung.
CLASS:PUBLIC
DTSTART;TZID=Europe/Berlin:20240327T140000
DTEND;TZID=Europe/Berlin:20240327T170000
DTSTAMP:20260419T150902
END:VEVENT
END:VCALENDAR