BEGIN:VCALENDAR
VERSION:2.0
PRODID:gruene-rlp.de
METHOD:PUBLISH
BEGIN:VTIMEZONE
TZID:Europe/Berlin
X-LIC-LOCATION:Europe/Berlin
BEGIN:DAYLIGHT
TZOFFSETFROM:+0100
TZOFFSETTO:+0200
TZNAME:CEST
DTSTART:19700329T020000
RRULE:FREQ=YEARLY;INTERVAL=1;BYDAY=-1SU;BYMONTH=3
END:DAYLIGHT
BEGIN:STANDARD
TZOFFSETFROM:+0200
TZOFFSETTO:+0100
TZNAME:CET
DTSTART:19701025T030000
RRULE:FREQ=YEARLY;INTERVAL=1;BYDAY=-1SU;BYMONTH=10
END:STANDARD
END:VTIMEZONE
BEGIN:VEVENT
UID:fb3af9fd75ca42aeca2991e6021510ca@gruene-rlp.de
URL;VALUE=URI:https://gruene-rlp.de/termine/infostand-maikammer/
LOCATION:Weinstraße Süd 40, Maikammer
SUMMARY:Infostand Maikammer
DESCRIPTION;ALTREP="data:text/html,%0A%3Cp%3E%20Triff%20Tobias%20Lindner%
 20am%20Infostand%20Maikammer.%3C%2Fp%3E%0A":Triff Tobias Lindner am Infos
 tand Maikammer.
CLASS:PUBLIC
DTSTART;TZID=Europe/Berlin:20210924T160000
DTEND;TZID=Europe/Berlin:20210924T170000
DTSTAMP:20260419T180240
END:VEVENT
END:VCALENDAR