BEGIN:VCALENDAR
VERSION:2.0
PRODID:gruene-rlp.de
METHOD:PUBLISH
BEGIN:VTIMEZONE
TZID:Europe/Berlin
X-LIC-LOCATION:Europe/Berlin
BEGIN:DAYLIGHT
TZOFFSETFROM:+0100
TZOFFSETTO:+0200
TZNAME:CEST
DTSTART:19700329T020000
RRULE:FREQ=YEARLY;INTERVAL=1;BYDAY=-1SU;BYMONTH=3
END:DAYLIGHT
BEGIN:STANDARD
TZOFFSETFROM:+0200
TZOFFSETTO:+0100
TZNAME:CET
DTSTART:19701025T030000
RRULE:FREQ=YEARLY;INTERVAL=1;BYDAY=-1SU;BYMONTH=10
END:STANDARD
END:VTIMEZONE
BEGIN:VEVENT
UID:35d15400b64f0213e110626e01d6c209@gruene-rlp.de
URL;VALUE=URI:https://gruene-rlp.de/termine/infostand-bitburg-fussgaenger
 zone-3/
LOCATION:
SUMMARY:Infostand Bitburg Fussgängerzone
DESCRIPTION;ALTREP="data:text/html,%0A%3Cp%3ETriff%20Dorothea%20Hafner%20
 beim%20Infostand%20in%20Bitburg.%20%20%3C%2Fp%3E%0A":Triff Dorothea Hafne
 r beim Infostand in Bitburg.
CLASS:PUBLIC
DTSTART;TZID=Europe/Berlin:20210904T100000
DTEND;TZID=Europe/Berlin:20210904T110000
DTSTAMP:20260422T034402
END:VEVENT
END:VCALENDAR