BEGIN:VCALENDAR
VERSION:2.0
PRODID:gruene-rlp.de
METHOD:PUBLISH
BEGIN:VTIMEZONE
TZID:Europe/Berlin
X-LIC-LOCATION:Europe/Berlin
BEGIN:DAYLIGHT
TZOFFSETFROM:+0100
TZOFFSETTO:+0200
TZNAME:CEST
DTSTART:19700329T020000
RRULE:FREQ=YEARLY;INTERVAL=1;BYDAY=-1SU;BYMONTH=3
END:DAYLIGHT
BEGIN:STANDARD
TZOFFSETFROM:+0200
TZOFFSETTO:+0100
TZNAME:CET
DTSTART:19701025T030000
RRULE:FREQ=YEARLY;INTERVAL=1;BYDAY=-1SU;BYMONTH=10
END:STANDARD
END:VTIMEZONE
BEGIN:VEVENT
UID:f253523a2a8a3adfc73eace40dff0e4d@gruene-rlp.de
URL;VALUE=URI:https://gruene-rlp.de/termine/hybride-sitzung-der-lag-landw
 irtschaft-2/
LOCATION:Landesgeschäftsstelle, Frauenlobstraße 49-51, Mainz
SUMMARY:Hybride Sitzung der LAG Landwirtschaft
DESCRIPTION;ALTREP="data:text/html,%0A%3Cp%3ESave%20the%20Date%21%3Cbr%3E
 %3Cbr%3EDie%20LAG%20Landwirtschaft%20plant%20eine%20hybride%20Sitzung%20i
 n%20der%20Landesgesch%C3%A4ftsstelle%20Mainz.%3Cbr%3E%3Cbr%3EDetails%20fo
 lgen.%3Cbr%3E%3Cbr%3EKontakt%20zur%20LAG%3A%20%3Ca%20href%3D%22mailto%3Al
 ag-landwirtschaft%40gruene-rlp.de%22%3Elag-landwirtschaft%40gruene-rlp.de
 %3C%2Fa%3E%3C%2Fp%3E%0A":Save the Date!Die LAG Landwirtschaft plant eine 
 hybride Sitzung in der Landesgeschäftsstelle Mainz.Details folgen.Kontak
 t zur LAG: lag-landwirtschaft@gruene-rlp.de
CLASS:PUBLIC
DTSTART;TZID=Europe/Berlin:20260606T110000
DTEND;TZID=Europe/Berlin:20260606T120000
DTSTAMP:20260421T112209
END:VEVENT
END:VCALENDAR