BEGIN:VCALENDAR
VERSION:2.0
PRODID:gruene-rlp.de
METHOD:PUBLISH
BEGIN:VTIMEZONE
TZID:Europe/Berlin
X-LIC-LOCATION:Europe/Berlin
BEGIN:DAYLIGHT
TZOFFSETFROM:+0100
TZOFFSETTO:+0200
TZNAME:CEST
DTSTART:19700329T020000
RRULE:FREQ=YEARLY;INTERVAL=1;BYDAY=-1SU;BYMONTH=3
END:DAYLIGHT
BEGIN:STANDARD
TZOFFSETFROM:+0200
TZOFFSETTO:+0100
TZNAME:CET
DTSTART:19701025T030000
RRULE:FREQ=YEARLY;INTERVAL=1;BYDAY=-1SU;BYMONTH=10
END:STANDARD
END:VTIMEZONE
BEGIN:VEVENT
UID:107e8fa25978904f1f7769a4adb9daef@gruene-rlp.de
URL;VALUE=URI:https://gruene-rlp.de/termine/digitales-neumitgliedertreffe
 n/
LOCATION:Digital
SUMMARY:Digitales Neumitgliedertreffen
DESCRIPTION;ALTREP="data:text/html,":
CLASS:PUBLIC
DTSTART;TZID=Europe/Berlin:20211115T190000
DTEND;TZID=Europe/Berlin:20211115T203000
DTSTAMP:20260421T091605
END:VEVENT
END:VCALENDAR