BEGIN:VCALENDAR
VERSION:2.0
PRODID:gruene-rlp.de
METHOD:PUBLISH
BEGIN:VTIMEZONE
TZID:Europe/Berlin
X-LIC-LOCATION:Europe/Berlin
BEGIN:DAYLIGHT
TZOFFSETFROM:+0100
TZOFFSETTO:+0200
TZNAME:CEST
DTSTART:19700329T020000
RRULE:FREQ=YEARLY;INTERVAL=1;BYDAY=-1SU;BYMONTH=3
END:DAYLIGHT
BEGIN:STANDARD
TZOFFSETFROM:+0200
TZOFFSETTO:+0100
TZNAME:CET
DTSTART:19701025T030000
RRULE:FREQ=YEARLY;INTERVAL=1;BYDAY=-1SU;BYMONTH=10
END:STANDARD
END:VTIMEZONE
BEGIN:VEVENT
UID:cb390ccadb19ee9c156413c7d83eab4c@gruene-rlp.de
URL;VALUE=URI:https://gruene-rlp.de/termine/digitale-sitzung-der-lag-migr
 ation-flucht/
LOCATION:
SUMMARY:Digitale Sitzung der LAG Migration & Flucht
DESCRIPTION;ALTREP="data:text/html,%0A%3Cp%3EDie%20LAG%20Migration%20%26a
 mp%3B%20Flucht%20l%C3%A4dt%20zu%20einer%20digitalen%20Sitzung%20ein.%3Cbr
 %3E%3Cbr%3EVorl%C3%A4ufige%20Tagesordnung%3A%3C%2Fp%3E%0A%0A%0A%0A%3Cp%3E
 1%29%20Begr%C3%BC%C3%9Fung%20und%20Formalia%3Cbr%3E2%29%20Bericht%20aus%2
 0den%20Gremien%3Cbr%3E3%29%20R%C3%BCckblick%3A%3Cbr%3E3.1%29%20Themenspez
 ifische%20Erkenntnisse%20aus%20dem%20Wahlkampf%3Cbr%3E3.2%29%20Herausford
 erungen%20und%20Erfolge%20aus%20den%20Jahren%20der%20Regierungsverantwort
 ung%20in%20RLP%3Cbr%3E3.3%29%20Situation%20in%20den%20Kommunen%20%28Umset
 zung%20Integrationsmanagement%20u.a.%29%3Cbr%3E3.4%29%20Abl%C3%A4ufe%20in
 %20den%20AfAs%3Cbr%3E3.5%29%20Asylrechtliche%20Erfolge%2F%20Herausforderu
 ngen%3Cbr%3E4%29%20Bericht%20vom%20BAG%20Treffen%20in%20Mainz%3Cbr%3E5%29
 %20GEAS%20und%20welche%20Themen%20m%C3%BCssen%20uns%20noch%20in%20der%20Z
 ukunft%20besch%C3%A4ftigen%3F%3Cbr%3E6%29%20Wie%20kann%20die%20Zusammenar
 beit%20innerhalb%20der%20LAG%20und%20mit%20der%20Landtagsfraktion%2F%20LG
 S%20zuk%C3%BCnftig%20gestaltet%20werden%3F%3Cbr%3E%3Cbr%3EKontakt%20zur%2
 0LAG%3A%20%3Ca%20href%3D%22mailto%3Alag-migration%40gruene-rlp.de%22%3Ela
 g-migration%40gruene-rlp.de%3C%2Fa%3E%3C%2Fp%3E%0A%0A%0A%0A%3Cp%3E%3C%2Fp
 %3E%0A":Die LAG Migration & Flucht lädt zu einer digitalen Sitzung ein.V
 orläufige Tagesordnung:\n\n1) Begrüßung und Formalia2) Bericht aus den
  Gremien3) Rückblick:3.1) Themenspezifische Erkenntnisse aus dem Wahlkam
 pf3.2) Herausforderungen und Erfolge aus den Jahren der Regierungsverantw
 ortung in RLP3.3) Situation in den Kommunen (Umsetzung Integrationsmanage
 ment u.a.)3.4) Abläufe in den AfAs3.5) Asylrechtliche Erfolge/ Herausfor
 derungen4) Bericht vom BAG Treffen in Mainz5) GEAS und welche Themen müs
 sen uns noch in der Zukunft beschäftigen?6) Wie kann die Zusammenarbeit 
 innerhalb der LAG und mit der Landtagsfraktion/ LGS zukünftig gestaltet 
 werden?Kontakt zur LAG: lag-migration@gruene-rlp.de
CLASS:PUBLIC
DTSTART;TZID=Europe/Berlin:20260429T190000
DTEND;TZID=Europe/Berlin:20260429T200000
DTSTAMP:20260421T112033
END:VEVENT
END:VCALENDAR