BEGIN:VCALENDAR
VERSION:2.0
PRODID:gruene-rlp.de
METHOD:PUBLISH
BEGIN:VTIMEZONE
TZID:Europe/Berlin
X-LIC-LOCATION:Europe/Berlin
BEGIN:DAYLIGHT
TZOFFSETFROM:+0100
TZOFFSETTO:+0200
TZNAME:CEST
DTSTART:19700329T020000
RRULE:FREQ=YEARLY;INTERVAL=1;BYDAY=-1SU;BYMONTH=3
END:DAYLIGHT
BEGIN:STANDARD
TZOFFSETFROM:+0200
TZOFFSETTO:+0100
TZNAME:CET
DTSTART:19701025T030000
RRULE:FREQ=YEARLY;INTERVAL=1;BYDAY=-1SU;BYMONTH=10
END:STANDARD
END:VTIMEZONE
BEGIN:VEVENT
UID:37ebc290327a78c6b558edc61d8eae92@gruene-rlp.de
URL;VALUE=URI:https://gruene-rlp.de/termine/besuch-in-naturschutzgebiet-k
 v-lahn-dill/
LOCATION:KV Lahn- Dill
SUMMARY:Besuch in Naturschutzgebiet KV Lahn-Dill
DESCRIPTION;ALTREP="data:text/html,%0A%3Cp%3EBei%20Fragen%20zu%20den%20Wa
 hlkampfterminen%20von%20Jutta%20Paulus%20wenden%20Sie%20sich%20bitte%20an
 %20Anke%20Welzenheimer%20%3Ca%20href%3D%22mailto%3Aanke.welzenheimer%40gr
 uene-rlp.de%22%3Eanke.welzenheimer%40gruene-rlp.de%3C%2Fa%3E%3C%2Fp%3E%0A
 %0A%0A%0A%3Cp%3E%3C%2Fp%3E%0A":Bei Fragen zu den Wahlkampfterminen von Ju
 tta Paulus wenden Sie sich bitte an Anke Welzenheimer anke.welzenheimer@g
 ruene-rlp.de
CLASS:PUBLIC
DTSTART;TZID=Europe/Berlin:20240515T140000
DTEND;TZID=Europe/Berlin:20240515T170000
DTSTAMP:20260422T021855
END:VEVENT
END:VCALENDAR