BEGIN:VCALENDAR
VERSION:2.0
PRODID:gruene-rlp.de
METHOD:PUBLISH
BEGIN:VTIMEZONE
TZID:Europe/Berlin
X-LIC-LOCATION:Europe/Berlin
BEGIN:DAYLIGHT
TZOFFSETFROM:+0100
TZOFFSETTO:+0200
TZNAME:CEST
DTSTART:19700329T020000
RRULE:FREQ=YEARLY;INTERVAL=1;BYDAY=-1SU;BYMONTH=3
END:DAYLIGHT
BEGIN:STANDARD
TZOFFSETFROM:+0200
TZOFFSETTO:+0100
TZNAME:CET
DTSTART:19701025T030000
RRULE:FREQ=YEARLY;INTERVAL=1;BYDAY=-1SU;BYMONTH=10
END:STANDARD
END:VTIMEZONE
BEGIN:VEVENT
UID:16a94be5d1183bedda7a4ba9948c19a7@gruene-rlp.de
URL;VALUE=URI:https://gruene-rlp.de/termine/armin-grau-in-speyer/
LOCATION:Speyer
SUMMARY:Armin Grau in Speyer
DESCRIPTION;ALTREP="data:text/html,%0A%3Cp%3EWahlkampfstand%3C%2Fp%3E%0A"
 :Wahlkampfstand
CLASS:PUBLIC
DTSTART;TZID=Europe/Berlin:20250118T100000
DTEND;TZID=Europe/Berlin:20250118T130000
DTSTAMP:20260420T002322
END:VEVENT
END:VCALENDAR